BEGIN:VCALENDAR
VERSION:2.0
PRODID:-//Plone.org//NONSGML plone.app.event//EN
X-WR-TIMEZONE:America/Sao_Paulo
BEGIN:VEVENT
SUMMARY:6º Colóquio Universidade e Comunicação Pública: Memória Inst
 itucional em [ Auditorio da Reitoria]
DTSTART;TZID=America/Sao_Paulo;VALUE=DATE-TIME:20241002T080000
DTEND;TZID=America/Sao_Paulo;VALUE=DATE-TIME:20241002T120000
DTSTAMP;VALUE=DATE-TIME:20260419T175757Z
UID:60e63fd0d00f42448d1e541a7179ae0c@150.164.76.86:8080
CREATED;VALUE=DATE-TIME:20240911T201344Z
DESCRIPTION:<div class="elementToProof">Após redimensionamento de evento\
 , iremos levar o evento para FAFICH\, desse modo solicito que cancele a re
 serva para o auditório da Reitoria. </div>\n<div class="elementToProof">
 </div>\n<div class="elementToProof">Iremos precisar do apoio da CAC\, apen
 as para solenidade de abertura do evento no conservatório UFMG. </div>\n
 <p> email em 25/09/24</p>
LAST-MODIFIED;VALUE=DATE-TIME:20240925T202103Z
URL:http://150.164.76.86:8080/cac/agenda/16424320089693948030
END:VEVENT
BEGIN:VTIMEZONE
TZID:America/Sao_Paulo
X-LIC-LOCATION:America/Sao_Paulo
BEGIN:STANDARD
DTSTART;VALUE=DATE-TIME:20240217T230000
TZNAME:BRT
TZOFFSETFROM:-0200
TZOFFSETTO:-0300
END:STANDARD
END:VTIMEZONE
END:VCALENDAR
