BEGIN:VCALENDAR
VERSION:2.0
PRODID:-//Plone.org//NONSGML plone.app.event//EN
X-WR-TIMEZONE:America/Sao_Paulo
BEGIN:VEVENT
SUMMARY:SESSÃO PÚBLICA CPPD VAGAS MAGISTÉRIO SUPERIOR COTAS em [ Outros
  espacos]
DTSTART;TZID=America/Sao_Paulo;VALUE=DATE-TIME:20240916T100000
DTEND;TZID=America/Sao_Paulo;VALUE=DATE-TIME:20240916T110000
DTSTAMP;VALUE=DATE-TIME:20260419T205545Z
UID:1f6471ff96de41b196c1177b7769716a@150.164.76.86:8080
CREATED;VALUE=DATE-TIME:20240903T114433Z
DESCRIPTION:SESSÃO PÚBLICA CPPD VAGAS MAGISTÉRIO SUPERIOR COTAS\nON LIN
 E\nVAGAS CEPE DE 08/08/2024\nPLATAFORMA ZOOM CAC
LAST-MODIFIED;VALUE=DATE-TIME:20240903T132258Z
URL:http://150.164.76.86:8080/cac/agenda/16423057385480605280
END:VEVENT
BEGIN:VTIMEZONE
TZID:America/Sao_Paulo
X-LIC-LOCATION:America/Sao_Paulo
BEGIN:STANDARD
DTSTART;VALUE=DATE-TIME:20240217T230000
TZNAME:BRT
TZOFFSETFROM:-0200
TZOFFSETTO:-0300
END:STANDARD
END:VTIMEZONE
END:VCALENDAR
