BEGIN:VCALENDAR
VERSION:2.0
PRODID:-//Plone.org//NONSGML plone.app.event//EN
X-WR-TIMEZONE:America/Sao_Paulo
BEGIN:VEVENT
SUMMARY:Audiência Pública sobre Processos Seletivos Seriadas em [ Audito
 rio da Reitoria]
DTSTART;TZID=America/Sao_Paulo;VALUE=DATE-TIME:20231129T140000
DTEND;TZID=America/Sao_Paulo;VALUE=DATE-TIME:20231129T170000
DTSTAMP;VALUE=DATE-TIME:20260420T130921Z
UID:325ad119d766496ba5a4e8f96d23f746@150.164.76.86:8080
CREATED;VALUE=DATE-TIME:20231101T130228Z
DESCRIPTION:<p>Microfone de mesa\, microfone com pedestal e projeção.</p
 >
LAST-MODIFIED;VALUE=DATE-TIME:20231101T140829Z
URL:http://150.164.76.86:8080/cac/agenda/16402961808969210131
END:VEVENT
BEGIN:VTIMEZONE
TZID:America/Sao_Paulo
X-LIC-LOCATION:America/Sao_Paulo
BEGIN:DAYLIGHT
DTSTART;VALUE=DATE-TIME:20231015T010000
TZNAME:BRST
TZOFFSETFROM:-0300
TZOFFSETTO:-0200
END:DAYLIGHT
END:VTIMEZONE
END:VCALENDAR
