BEGIN:VCALENDAR
VERSION:2.0
PRODID:-//Plone.org//NONSGML plone.app.event//EN
X-WR-TIMEZONE:America/Sao_Paulo
BEGIN:VEVENT
SUMMARY:CONCURSO TAE UFMG 2024 em [ Auditorio Nobre do CAD 1 Auditorio 1A 
 do CAD 1 Auditorio 2A do CAD 1 Auditorio A102 do Cad 2 Auditorio A104 do C
 ad 2 Auditório B101/102 do CAD 3 Auditório B106 do CAD3 Auditório B107 
 do CAD3 Auditório B301 do CAD 3 Auditório B302 do CAD 3 Auditório B306 
 do CAD3 Outros espacos]
DTSTART;TZID=America/Sao_Paulo;VALUE=DATE-TIME:20241116T060000
DTEND;TZID=America/Sao_Paulo;VALUE=DATE-TIME:20241117T210000
DTSTAMP;VALUE=DATE-TIME:20260419T175255Z
UID:5e99c2bc07c04c82a0af04515c848da5@150.164.76.86:8080
CREATED;VALUE=DATE-TIME:20240807T183836Z
DESCRIPTION:<p><span>CONCURSO TAE UFMG 2024</span></p>
LAST-MODIFIED;VALUE=DATE-TIME:20240807T183908Z
URL:http://150.164.76.86:8080/cac/agenda/16397737125835389708
END:VEVENT
BEGIN:VTIMEZONE
TZID:America/Sao_Paulo
X-LIC-LOCATION:America/Sao_Paulo
BEGIN:DAYLIGHT
DTSTART;VALUE=DATE-TIME:20241020T010000
TZNAME:BRST
TZOFFSETFROM:-0300
TZOFFSETTO:-0200
END:DAYLIGHT
END:VTIMEZONE
END:VCALENDAR
