BEGIN:VCALENDAR
VERSION:2.0
PRODID:-//Plone.org//NONSGML plone.app.event//EN
X-WR-TIMEZONE:America/Sao_Paulo
BEGIN:VEVENT
SUMMARY:Encontro de Fim de Tarde da PgFisFar em [ Auditorio Nobre do CAD 1
 ]
DTSTART;TZID=America/Sao_Paulo;VALUE=DATE-TIME:20220512T140000
DTEND;TZID=America/Sao_Paulo;VALUE=DATE-TIME:20220512T190000
DTSTAMP;VALUE=DATE-TIME:20260422T081606Z
UID:a7b7d187ab024e64aa2e4ebfae27441a@150.164.76.86:8080
CREATED;VALUE=DATE-TIME:20220425T162259Z
DESCRIPTION:Encontro dos pesquisadores do Programa de Pós-graduação em 
 Fisiologia e Farmacologia da UFMG.
LAST-MODIFIED;VALUE=DATE-TIME:20220425T201835Z
URL:http://150.164.76.86:8080/cac/agenda/16388996082521276412
END:VEVENT
BEGIN:VTIMEZONE
TZID:America/Sao_Paulo
X-LIC-LOCATION:America/Sao_Paulo
BEGIN:STANDARD
DTSTART;VALUE=DATE-TIME:20220219T230000
TZNAME:BRT
TZOFFSETFROM:-0200
TZOFFSETTO:-0300
END:STANDARD
END:VTIMEZONE
END:VCALENDAR
