BEGIN:VCALENDAR
VERSION:2.0
PRODID:-//Plone.org//NONSGML plone.app.event//EN
X-WR-TIMEZONE:America/Sao_Paulo
BEGIN:VEVENT
SUMMARY:CAPACIDADE EXCEDIDA em [ Saguao da Reitoria Gramado da Reitoria En
 torno da Praca de Servicos Auditorio Nobre do CAD 1 Auditorio 1A do CAD 1 
 Auditorio 2A do CAD 1 Auditorio A102 do Cad 2 Arena da praça de serviços
  Auditório B302 do CAD 3 Auditório B101/102 do CAD 3 Auditório B301 do 
 CAD 3]
DTSTART;TZID=America/Sao_Paulo;VALUE=DATE-TIME:20200402T130000
DTEND;TZID=America/Sao_Paulo;VALUE=DATE-TIME:20200402T170000
DTSTAMP;VALUE=DATE-TIME:20260425T010210Z
UID:047baaf9ff2343d0852805ea0ce5bd09@150.164.76.86:8080
CREATED;VALUE=DATE-TIME:20200205T131244Z
DESCRIPTION:<p>.</p>
LAST-MODIFIED;VALUE=DATE-TIME:20230111T201102Z
URL:http://150.164.76.86:8080/cac/agenda/16386009416742474544
END:VEVENT
BEGIN:VTIMEZONE
TZID:America/Sao_Paulo
X-LIC-LOCATION:America/Sao_Paulo
BEGIN:STANDARD
DTSTART;VALUE=DATE-TIME:20200215T230000
TZNAME:BRT
TZOFFSETFROM:-0200
TZOFFSETTO:-0300
END:STANDARD
END:VTIMEZONE
END:VCALENDAR
