BEGIN:VCALENDAR
VERSION:2.0
PRODID:-//Plone.org//NONSGML plone.app.event//EN
X-WR-TIMEZONE:America/Sao_Paulo
BEGIN:VEVENT
SUMMARY:Semana de Barragens em [ Auditorio Nobre do CAD 1]
DTSTART;TZID=America/Sao_Paulo;VALUE=DATE-TIME:20200810T080000
DTEND;TZID=America/Sao_Paulo;VALUE=DATE-TIME:20200814T180000
DTSTAMP;VALUE=DATE-TIME:20260424T195122Z
UID:1f1953e321a84c70a624512fcd10840d@150.164.76.86:8080
CREATED;VALUE=DATE-TIME:20200303T143203Z
DESCRIPTION:<p>Evento sobre barragens a ser realizado em parceria CBDB/UFM
 G: abertura no CAD1 (Auditório Nobre e Mezanino\, 08/08 montagem\, 10/08 
 evento\, 11/08 desmontagem) e eventos no CAD3 (auditórios B101\, B102\, B
 106\, B107\, Hall Mezanino e Cantina: 08 e 09/08 montagem\, 10/08 a 14/08 
 evento\, 17 e 18/08 desmontagem).</p>
LAST-MODIFIED;VALUE=DATE-TIME:20230111T201108Z
URL:http://150.164.76.86:8080/cac/agenda/16377711528733027051
END:VEVENT
BEGIN:VTIMEZONE
TZID:America/Sao_Paulo
X-LIC-LOCATION:America/Sao_Paulo
BEGIN:STANDARD
DTSTART;VALUE=DATE-TIME:20200215T230000
TZNAME:BRT
TZOFFSETFROM:-0200
TZOFFSETTO:-0300
END:STANDARD
END:VTIMEZONE
END:VCALENDAR
