BEGIN:VCALENDAR
VERSION:2.0
PRODID:-//Plone.org//NONSGML plone.app.event//EN
X-WR-TIMEZONE:America/Sao_Paulo
BEGIN:VEVENT
SUMMARY:8° Encontro De História Da Mídia Sudeste em [ Auditorio A102 do
  Cad 2]
DTSTART;TZID=America/Sao_Paulo;VALUE=DATE-TIME:20240802T180000
DTEND;TZID=America/Sao_Paulo;VALUE=DATE-TIME:20240802T220000
DTSTAMP;VALUE=DATE-TIME:20260419T205822Z
UID:29d39acc940f41319461fc3ed44a2763@150.164.76.86:8080
CREATED;VALUE=DATE-TIME:20240709T140944Z
DESCRIPTION:<p>O 8º Encontro Regional Sudeste acontece de 01º a 02 de ag
 osto\, em Belo Horizonte\, promovido pela Associação Brasileira de Pesqu
 isadores de História da Mídia (ALCAR) e realizado pela Universidade Fede
 ral de Minas Gerais. Com o tema geral Políticas do tempo na história das
  mídias – contextos regionais\, o evento convida professores(as)\, estu
 dantes\, pesquisadores(as) e profissionais a debaterem temas concernentes 
 a uma ordem do tempo fraturado\, com perspectivas díspares e não conflue
 ntes entre experiências e expectativas.</p>
LAST-MODIFIED;VALUE=DATE-TIME:20240722T171815Z
URL:http://150.164.76.86:8080/cac/agenda/16364999581175174563
END:VEVENT
BEGIN:VTIMEZONE
TZID:America/Sao_Paulo
X-LIC-LOCATION:America/Sao_Paulo
BEGIN:STANDARD
DTSTART;VALUE=DATE-TIME:20240217T230000
TZNAME:BRT
TZOFFSETFROM:-0200
TZOFFSETTO:-0300
END:STANDARD
END:VTIMEZONE
END:VCALENDAR
