BEGIN:VCALENDAR
VERSION:2.0
PRODID:-//Plone.org//NONSGML plone.app.event//EN
X-WR-TIMEZONE:America/Sao_Paulo
BEGIN:VEVENT
SUMMARY:Abril Indígena - Mesa Prograd em [ Auditório B106 do CAD3]
DTSTART;TZID=America/Sao_Paulo;VALUE=DATE-TIME:20250429T140000
DTEND;TZID=America/Sao_Paulo;VALUE=DATE-TIME:20250429T170000
DTSTAMP;VALUE=DATE-TIME:20260419T103643Z
UID:31ce921141664508b2cf07cc99048b63@150.164.76.86:8080
CREATED;VALUE=DATE-TIME:20250320T200127Z
DESCRIPTION:<p>O Evento será um Fórum de Discussão com a presença da P
 rograd e Representantes Indígenas. Contará com a presença de aproximada
 mente de 80 pessoas.</p>
LAST-MODIFIED;VALUE=DATE-TIME:20250326T131057Z
URL:http://150.164.76.86:8080/cac/agenda/16325356456883683495
END:VEVENT
BEGIN:VTIMEZONE
TZID:America/Sao_Paulo
X-LIC-LOCATION:America/Sao_Paulo
BEGIN:STANDARD
DTSTART;VALUE=DATE-TIME:20250215T230000
TZNAME:BRT
TZOFFSETFROM:-0200
TZOFFSETTO:-0300
END:STANDARD
END:VTIMEZONE
END:VCALENDAR
