BEGIN:VCALENDAR
VERSION:2.0
PRODID:-//Plone.org//NONSGML plone.app.event//EN
X-WR-TIMEZONE:America/Sao_Paulo
BEGIN:VEVENT
SUMMARY:DOMINGO NO CAMPUS em [ Auditorio da Reitoria Saguao da Reitoria Gr
 amado da Reitoria Arena da praça de serviços Entorno da Praca de Servico
 s Auditorio Nobre do CAD 1 Auditorio 1A do CAD 1 Auditorio 2A do CAD 1 Aud
 itorio A102 do Cad 2 Auditorio A104 do Cad 2 Auditório B101/102 do CAD 3 
 Auditório B106 do CAD3 Auditório B107 do CAD3 Auditório B301 do CAD 3 A
 uditório B302 do CAD 3 Auditório B306 do CAD3 Outros espacos]
DTSTART;TZID=America/Sao_Paulo;VALUE=DATE-TIME:20240609T060000
DTEND;TZID=America/Sao_Paulo;VALUE=DATE-TIME:20240609T070000
DTSTAMP;VALUE=DATE-TIME:20260420T012703Z
UID:d9ba123e5f2749b78a0d701616064def@150.164.76.86:8080
CREATED;VALUE=DATE-TIME:20231106T141442Z
DESCRIPTION:<p>DOMINGO NO CAMPUS - EVENTO DO CALENDÁRIO ACADÊMICO</p>
LAST-MODIFIED;VALUE=DATE-TIME:20231106T141511Z
URL:http://150.164.76.86:8080/cac/agenda/16322020926283581578
END:VEVENT
BEGIN:VTIMEZONE
TZID:America/Sao_Paulo
X-LIC-LOCATION:America/Sao_Paulo
BEGIN:STANDARD
DTSTART;VALUE=DATE-TIME:20240217T230000
TZNAME:BRT
TZOFFSETFROM:-0200
TZOFFSETTO:-0300
END:STANDARD
END:VTIMEZONE
END:VCALENDAR
