BEGIN:VCALENDAR
VERSION:2.0
PRODID:-//Plone.org//NONSGML plone.app.event//EN
X-WR-TIMEZONE:America/Sao_Paulo
BEGIN:VEVENT
SUMMARY:Solenidade Conselho Universitário em [ Auditorio da Reitoria]
DTSTART;TZID=America/Sao_Paulo;VALUE=DATE-TIME:20240924T190000
DTEND;TZID=America/Sao_Paulo;VALUE=DATE-TIME:20240924T210000
DTSTAMP;VALUE=DATE-TIME:20260419T205315Z
UID:c92fe98ab917481f84f1051b879b9cbc@150.164.76.86:8080
CREATED;VALUE=DATE-TIME:20240821T135812Z
DESCRIPTION:<p>Solenidade Conselho Universitário</p>
LAST-MODIFIED;VALUE=DATE-TIME:20240827T151422Z
URL:http://150.164.76.86:8080/cac/agenda/16319227307851802084
END:VEVENT
BEGIN:VTIMEZONE
TZID:America/Sao_Paulo
X-LIC-LOCATION:America/Sao_Paulo
BEGIN:STANDARD
DTSTART;VALUE=DATE-TIME:20240217T230000
TZNAME:BRT
TZOFFSETFROM:-0200
TZOFFSETTO:-0300
END:STANDARD
END:VTIMEZONE
END:VCALENDAR
