BEGIN:VCALENDAR
VERSION:2.0
PRODID:-//Plone.org//NONSGML plone.app.event//EN
X-WR-TIMEZONE:America/Sao_Paulo
BEGIN:VEVENT
SUMMARY:Semana da Enfermagem em [ Outros espacos]
DTSTART;TZID=America/Sao_Paulo;VALUE=DATE-TIME:20230517T080000
DTEND;TZID=America/Sao_Paulo;VALUE=DATE-TIME:20230517T180000
DTSTAMP;VALUE=DATE-TIME:20260421T134056Z
UID:0488daa0db8a4005a0e0303fed5c4e12@150.164.76.86:8080
CREATED;VALUE=DATE-TIME:20230515T105435Z
DESCRIPTION:<p><span>Horários:</span><br /><span>Turma 1: 9h às 12h</spa
 n><br /><span>Turma 2: 14h às 17h</span><br /><span>Palestrante: prof(a) 
 Allana dos Reis Correa</span><br /><span>Informações gerais: Oficina pr
 ática de Suporte Básico de Vida para profissionais de enfermagem.</span>
 <br /><br />REGISTRO APENAS PARA CONTABILIZAR NA ESTATÍSTICA CAC </p>
LAST-MODIFIED;VALUE=DATE-TIME:20230515T142546Z
URL:http://150.164.76.86:8080/cac/agenda/16318347102204091115
END:VEVENT
BEGIN:VTIMEZONE
TZID:America/Sao_Paulo
X-LIC-LOCATION:America/Sao_Paulo
BEGIN:STANDARD
DTSTART;VALUE=DATE-TIME:20230225T230000
TZNAME:BRT
TZOFFSETFROM:-0200
TZOFFSETTO:-0300
END:STANDARD
END:VTIMEZONE
END:VCALENDAR
