BEGIN:VCALENDAR
VERSION:2.0
PRODID:-//Plone.org//NONSGML plone.app.event//EN
X-WR-TIMEZONE:America/Sao_Paulo
BEGIN:VEVENT
SUMMARY:Quarta doze e Trinta em [ Arena da praça de serviços]
DTSTART;TZID=America/Sao_Paulo;VALUE=DATE-TIME:20230927T080000
DTEND;TZID=America/Sao_Paulo;VALUE=DATE-TIME:20230927T150000
DTSTAMP;VALUE=DATE-TIME:20260421T050207Z
UID:c32d59265ed84ff4a165974f4c57aa9b@150.164.76.86:8080
CREATED;VALUE=DATE-TIME:20221124T161114Z
DESCRIPTION:<p>Quarta doze e trinta\, Equipamentos a definir. somente rese
 rva do espaço.</p>
LAST-MODIFIED;VALUE=DATE-TIME:20230703T194710Z
URL:http://150.164.76.86:8080/cac/agenda/16305903752449640070
END:VEVENT
BEGIN:VTIMEZONE
TZID:America/Sao_Paulo
X-LIC-LOCATION:America/Sao_Paulo
BEGIN:STANDARD
DTSTART;VALUE=DATE-TIME:20230225T230000
TZNAME:BRT
TZOFFSETFROM:-0200
TZOFFSETTO:-0300
END:STANDARD
END:VTIMEZONE
END:VCALENDAR
