BEGIN:VCALENDAR
VERSION:2.0
PRODID:-//Plone.org//NONSGML plone.app.event//EN
X-WR-TIMEZONE:America/Sao_Paulo
BEGIN:VEVENT
SUMMARY:V WORKSHOP INTERNACIONAL DE POLÍTICA DE USO E GOVERNANÇA DO SOLO
   IV SEMINÁRIO NACIONAL DE SUSTENTABILIDADE EM RECURSOS HÍDRICOS em [ Au
 ditório B106 do CAD3]
DTSTART;TZID=America/Sao_Paulo;VALUE=DATE-TIME:20221128T070000
DTEND;TZID=America/Sao_Paulo;VALUE=DATE-TIME:20221130T190000
DTSTAMP;VALUE=DATE-TIME:20260421T232659Z
UID:bff9f77980b642f0bc5c41e9bd78b631@150.164.76.86:8080
CREATED;VALUE=DATE-TIME:20220930T142439Z
DESCRIPTION:<p>O evento aborda a discussão na temática “solo e água: 
 benefícios para a sociedade” que irão enfatizar a troca de ideias e ex
 periências científicas\, bem como demonstrar a aplicação de metodologi
 as\, técnicas e habilidades\, a partir do processo ensino-aprendizagem\, 
 onde os participantes serão convocados a dialogar no evento ativamente\, 
 interagindo com os temas a serem abordados.</p>
LAST-MODIFIED;VALUE=DATE-TIME:20221031T202553Z
URL:http://150.164.76.86:8080/cac/agenda/16295097205425223176
END:VEVENT
BEGIN:VTIMEZONE
TZID:America/Sao_Paulo
X-LIC-LOCATION:America/Sao_Paulo
BEGIN:DAYLIGHT
DTSTART;VALUE=DATE-TIME:20221016T010000
TZNAME:BRST
TZOFFSETFROM:-0300
TZOFFSETTO:-0200
END:DAYLIGHT
END:VTIMEZONE
END:VCALENDAR
