BEGIN:VCALENDAR
VERSION:2.0
PRODID:-//Plone.org//NONSGML plone.app.event//EN
X-WR-TIMEZONE:America/Sao_Paulo
BEGIN:VEVENT
SUMMARY:Encerramento do Novembro Negro 2023 em [ Arena da praça de servi
 ços]
DTSTART;TZID=America/Sao_Paulo;VALUE=DATE-TIME:20231124T170000
DTEND;TZID=America/Sao_Paulo;VALUE=DATE-TIME:20231124T203000
DTSTAMP;VALUE=DATE-TIME:20260420T155408Z
UID:71a24ab212e74b1ea5058863adb8e738@150.164.76.86:8080
CREATED;VALUE=DATE-TIME:20231018T194304Z
DESCRIPTION:<p>Festa de Encerramento do Novembro Negro 2023 a ser realizad
 a na Arena da Praça de Serviços com a previsão máxima de público de 1
 000 pessoas.</p>
LAST-MODIFIED;VALUE=DATE-TIME:20231113T141637Z
URL:http://150.164.76.86:8080/cac/agenda/16292240198890719503
END:VEVENT
BEGIN:VTIMEZONE
TZID:America/Sao_Paulo
X-LIC-LOCATION:America/Sao_Paulo
BEGIN:DAYLIGHT
DTSTART;VALUE=DATE-TIME:20231015T010000
TZNAME:BRST
TZOFFSETFROM:-0300
TZOFFSETTO:-0200
END:DAYLIGHT
END:VTIMEZONE
END:VCALENDAR
