BEGIN:VCALENDAR
VERSION:2.0
PRODID:-//Plone.org//NONSGML plone.app.event//EN
X-WR-TIMEZONE:America/Sao_Paulo
BEGIN:VEVENT
SUMMARY:Reunião de Resultados do ano 2024 e confraternização com os col
 aboradores em [ Outros espacos]
DTSTART;TZID=America/Sao_Paulo;VALUE=DATE-TIME:20241220T130000
DTEND;TZID=America/Sao_Paulo;VALUE=DATE-TIME:20241220T170000
DTSTAMP;VALUE=DATE-TIME:20260419T164519Z
UID:38e4d20c3e2340aea520a76685fd13f6@150.164.76.86:8080
CREATED;VALUE=DATE-TIME:20241025T144549Z
DESCRIPTION:<p>Apresentação dos resultados das atividades e projetos do 
 LEC no ano de 2024 e expectativas para o ano de 2025. Balanço geral de re
 sultados e após a apresentação\, a realização de um brunch para os co
 laboradores</p>
LAST-MODIFIED;VALUE=DATE-TIME:20241211T191535Z
URL:http://150.164.76.86:8080/cac/agenda/16270466267780864348
END:VEVENT
BEGIN:VTIMEZONE
TZID:America/Sao_Paulo
X-LIC-LOCATION:America/Sao_Paulo
BEGIN:DAYLIGHT
DTSTART;VALUE=DATE-TIME:20241020T010000
TZNAME:BRST
TZOFFSETFROM:-0300
TZOFFSETTO:-0200
END:DAYLIGHT
END:VTIMEZONE
END:VCALENDAR
