BEGIN:VCALENDAR
VERSION:2.0
PRODID:-//Plone.org//NONSGML plone.app.event//EN
X-WR-TIMEZONE:America/Sao_Paulo
BEGIN:VEVENT
SUMMARY:XII CBCM em [ Auditorio A102 do Cad 2]
DTSTART;TZID=America/Sao_Paulo;VALUE=DATE-TIME:20240729T070000
DTEND;TZID=America/Sao_Paulo;VALUE=DATE-TIME:20240731T220000
DTSTAMP;VALUE=DATE-TIME:20260420T012013Z
UID:46513639010d49ecaa8a5fd50047b336@150.164.76.86:8080
CREATED;VALUE=DATE-TIME:20240716T183821Z
DESCRIPTION:<p>29/07 18h – 20h: Conferência I (auditório) 30/07 8h30 
 – 10h: Temas livres (sala de aula) 10h30 – 12h: Mesa redonda (auditór
 io) 13h30 – 14h30: Apresentação (auditório) 14h30 – 15h30: Pôstere
 s (saguão) 15h45 – 17h15: Conferência II (auditório) 17h30 – 19h: A
 ssembleia (auditório) 31/07 8h30 – 10h: Temas livres (sala de aula) 10h
 30 – 12h: Mesa redonda (auditório) 14h30 – 15h30: Pôsteres (saguão)
  15h45 – 17h15: Mesa redonda (auditório) 18h30 – 19h30: Conferência 
 III (auditório) **O técnico de audiovisual da unidade (Luigi) prestará 
 o apoio necessário ao evento. A chefia de infraestrutura da EEFFTO já li
 berou o servidor para acompanhar as atividades do CBCM.</p>
LAST-MODIFIED;VALUE=DATE-TIME:20240717T124120Z
URL:http://150.164.76.86:8080/cac/agenda/16269940599085302315
END:VEVENT
BEGIN:VTIMEZONE
TZID:America/Sao_Paulo
X-LIC-LOCATION:America/Sao_Paulo
BEGIN:STANDARD
DTSTART;VALUE=DATE-TIME:20240217T230000
TZNAME:BRT
TZOFFSETFROM:-0200
TZOFFSETTO:-0300
END:STANDARD
END:VTIMEZONE
END:VCALENDAR
