BEGIN:VCALENDAR
VERSION:2.0
PRODID:-//Plone.org//NONSGML plone.app.event//EN
X-WR-TIMEZONE:America/Sao_Paulo
BEGIN:VEVENT
SUMMARY:PicadeRRÓ em [ Arena da praça de serviços]
DTSTART;TZID=America/Sao_Paulo;VALUE=DATE-TIME:20241204T173000
DTEND;TZID=America/Sao_Paulo;VALUE=DATE-TIME:20241204T190000
DTSTAMP;VALUE=DATE-TIME:20260419T163858Z
UID:9051ccaaad254af9b3db041f7aac27de@150.164.76.86:8080
CREATED;VALUE=DATE-TIME:20240727T151457Z
DESCRIPTION:Evento de caráter cultural\, cujo objetivo é disseminar a cu
 ltura do forró para a comunidade da UFMG. Utilizamos recursos e materiais
  próprios como computador\, caixa de som e microfone.
LAST-MODIFIED;VALUE=DATE-TIME:20240729T133817Z
URL:http://150.164.76.86:8080/cac/agenda/16268499337711649408
END:VEVENT
BEGIN:VTIMEZONE
TZID:America/Sao_Paulo
X-LIC-LOCATION:America/Sao_Paulo
BEGIN:DAYLIGHT
DTSTART;VALUE=DATE-TIME:20241020T010000
TZNAME:BRST
TZOFFSETFROM:-0300
TZOFFSETTO:-0200
END:DAYLIGHT
END:VTIMEZONE
END:VCALENDAR
