BEGIN:VCALENDAR
VERSION:2.0
PRODID:-//Plone.org//NONSGML plone.app.event//EN
X-WR-TIMEZONE:America/Sao_Paulo
BEGIN:VEVENT
SUMMARY:Montagem/preparação - Recepção de calouros UFMG 2º/2022 em [ 
 Saguao da Reitoria Auditorio da Reitoria Gramado da Reitoria Entorno da Pr
 aca de Servicos Auditorio Nobre do CAD 1 Auditorio 1A do CAD 1 Auditorio 2
 A do CAD 1 Auditorio A102 do Cad 2 Auditorio A104 do Cad 2 Arena da praça
  de serviços Auditório B101/102 do CAD 3 Auditório B106 do CAD3 Auditó
 rio B107 do CAD3]
DTSTART;TZID=America/Sao_Paulo;VALUE=DATE-TIME:20220818T060000
DTEND;TZID=America/Sao_Paulo;VALUE=DATE-TIME:20220819T230000
DTSTAMP;VALUE=DATE-TIME:20260422T025046Z
UID:33f5b79d84ab41e0b24db03db8544115@150.164.76.86:8080
CREATED;VALUE=DATE-TIME:20220210T135006Z
DESCRIPTION:<p>Montagem e preparação para Recepção de Calouros</p>
LAST-MODIFIED;VALUE=DATE-TIME:20230111T201057Z
URL:http://150.164.76.86:8080/cac/agenda/16264990240473553303
END:VEVENT
BEGIN:VTIMEZONE
TZID:America/Sao_Paulo
X-LIC-LOCATION:America/Sao_Paulo
BEGIN:STANDARD
DTSTART;VALUE=DATE-TIME:20220219T230000
TZNAME:BRT
TZOFFSETFROM:-0200
TZOFFSETTO:-0300
END:STANDARD
END:VTIMEZONE
END:VCALENDAR
