BEGIN:VCALENDAR
VERSION:2.0
PRODID:-//Plone.org//NONSGML plone.app.event//EN
X-WR-TIMEZONE:America/Sao_Paulo
BEGIN:VEVENT
SUMMARY:Concurso Público  POLÍCIA CIVIL DE MINAS GERAIS em [ Auditorio N
 obre do CAD 1 Auditorio A102 do Cad 2 Auditorio A104 do Cad 2 Auditório B
 101/102 do CAD 3 Auditório B106 do CAD3 Auditório B107 do CAD3]
DTSTART;TZID=America/Sao_Paulo;VALUE=DATE-TIME:20250125T120000
DTEND;TZID=America/Sao_Paulo;VALUE=DATE-TIME:20250126T210000
DTSTAMP;VALUE=DATE-TIME:20260419T145147Z
UID:3e4080d3114441adbef65003a7504b0e@150.164.76.86:8080
CREATED;VALUE=DATE-TIME:20241119T123656Z
DESCRIPTION:<p>prova de concurso público</p>
LAST-MODIFIED;VALUE=DATE-TIME:20241119T123957Z
URL:http://150.164.76.86:8080/cac/agenda/16259015953516340162
END:VEVENT
BEGIN:VTIMEZONE
TZID:America/Sao_Paulo
X-LIC-LOCATION:America/Sao_Paulo
BEGIN:DAYLIGHT
DTSTART;VALUE=DATE-TIME:20241020T010000
TZNAME:BRST
TZOFFSETFROM:-0300
TZOFFSETTO:-0200
END:DAYLIGHT
END:VTIMEZONE
END:VCALENDAR
