BEGIN:VCALENDAR
VERSION:2.0
PRODID:-//Plone.org//NONSGML plone.app.event//EN
X-WR-TIMEZONE:America/Sao_Paulo
BEGIN:VEVENT
SUMMARY:Academia Brasileira de Ciências em [ Auditório B101/102 do CAD 3
 ]
DTSTART;TZID=America/Sao_Paulo;VALUE=DATE-TIME:20240902T070000
DTEND;TZID=America/Sao_Paulo;VALUE=DATE-TIME:20240903T220000
DTSTAMP;VALUE=DATE-TIME:20260419T193340Z
UID:09f6e09b3aea41cb8b9c23b135b53153@150.164.76.86:8080
CREATED;VALUE=DATE-TIME:20240716T174937Z
DESCRIPTION:<p>Precisaremos de: microfone para mesa e público\, retroproj
 etor.</p>
LAST-MODIFIED;VALUE=DATE-TIME:20240731T191054Z
URL:http://150.164.76.86:8080/cac/agenda/16221605462268225106
END:VEVENT
BEGIN:VTIMEZONE
TZID:America/Sao_Paulo
X-LIC-LOCATION:America/Sao_Paulo
BEGIN:STANDARD
DTSTART;VALUE=DATE-TIME:20240217T230000
TZNAME:BRT
TZOFFSETFROM:-0200
TZOFFSETTO:-0300
END:STANDARD
END:VTIMEZONE
END:VCALENDAR
