BEGIN:VCALENDAR
VERSION:2.0
PRODID:-//Plone.org//NONSGML plone.app.event//EN
X-WR-TIMEZONE:America/Sao_Paulo
BEGIN:VEVENT
SUMMARY:Conferência Tópicos em Filosofia - COLTEC em [ Auditorio A104 do
  Cad 2]
DTSTART;TZID=America/Sao_Paulo;VALUE=DATE-TIME:20241211T133000
DTEND;TZID=America/Sao_Paulo;VALUE=DATE-TIME:20241211T171000
DTSTAMP;VALUE=DATE-TIME:20260419T163455Z
UID:8a5411812fd0404d8919304eb68bc348@150.164.76.86:8080
CREATED;VALUE=DATE-TIME:20241108T152614Z
DESCRIPTION:Data show e caixa de som. Tópicos em Filosofia. Conferência 
 a ser conferida para todas as turmas de segundo ano pelo professor Antôni
 o José Lopes Alves.
LAST-MODIFIED;VALUE=DATE-TIME:20241122T143006Z
URL:http://150.164.76.86:8080/cac/agenda/16219309580590653897
END:VEVENT
BEGIN:VTIMEZONE
TZID:America/Sao_Paulo
X-LIC-LOCATION:America/Sao_Paulo
BEGIN:DAYLIGHT
DTSTART;VALUE=DATE-TIME:20241020T010000
TZNAME:BRST
TZOFFSETFROM:-0300
TZOFFSETTO:-0200
END:DAYLIGHT
END:VTIMEZONE
END:VCALENDAR
