BEGIN:VCALENDAR
VERSION:2.0
PRODID:-//Plone.org//NONSGML plone.app.event//EN
X-WR-TIMEZONE:America/Sao_Paulo
BEGIN:VEVENT
SUMMARY:Welcome Challenge - Liga de Mercado e Negócios em [ Auditório B1
 06 do CAD3]
DTSTART;TZID=America/Sao_Paulo;VALUE=DATE-TIME:20230620T183000
DTEND;TZID=America/Sao_Paulo;VALUE=DATE-TIME:20230620T220000
DTSTAMP;VALUE=DATE-TIME:20260421T133132Z
UID:5045715f86294a5b92503862a1c5deb1@150.164.76.86:8080
CREATED;VALUE=DATE-TIME:20230607T120942Z
DESCRIPTION:<p>O Welcome Challenge é uma competição interna realizada p
 ela Liga de Mercado e Negócios UFMG com o objetivo de preparar nossos mem
 bros para desafios externos. Ao todo\, 3 grupos estão participando da com
 petição e\, neste dia\, serão realizadas as apresentações finais. Pre
 cisaremos de projetor para os slides das apresentações. OBS: Modo aula</
 p>
LAST-MODIFIED;VALUE=DATE-TIME:20230612T180324Z
URL:http://150.164.76.86:8080/cac/agenda/16217349495366631261
END:VEVENT
BEGIN:VTIMEZONE
TZID:America/Sao_Paulo
X-LIC-LOCATION:America/Sao_Paulo
BEGIN:STANDARD
DTSTART;VALUE=DATE-TIME:20230225T230000
TZNAME:BRT
TZOFFSETFROM:-0200
TZOFFSETTO:-0300
END:STANDARD
END:VTIMEZONE
END:VCALENDAR
