BEGIN:VCALENDAR
VERSION:2.0
PRODID:-//Plone.org//NONSGML plone.app.event//EN
X-WR-TIMEZONE:America/Sao_Paulo
BEGIN:VEVENT
SUMMARY:SESMG Encerramento de 2022 e planejamento para 2023 em [ Auditorio
  A102 do Cad 2]
DTSTART;TZID=America/Sao_Paulo;VALUE=DATE-TIME:20221205T090000
DTEND;TZID=America/Sao_Paulo;VALUE=DATE-TIME:20221206T150000
DTSTAMP;VALUE=DATE-TIME:20260421T192210Z
UID:ac756b3421fc4c3fb6671e235198a421@150.164.76.86:8080
CREATED;VALUE=DATE-TIME:20221123T214711Z
DESCRIPTION:<p><span><span>encerramento de 2022 e planejamento para 2023</
 span></span></p>
LAST-MODIFIED;VALUE=DATE-TIME:20221129T135508Z
URL:http://150.164.76.86:8080/cac/agenda/16217000131522234321
END:VEVENT
BEGIN:VTIMEZONE
TZID:America/Sao_Paulo
X-LIC-LOCATION:America/Sao_Paulo
BEGIN:DAYLIGHT
DTSTART;VALUE=DATE-TIME:20221016T010000
TZNAME:BRST
TZOFFSETFROM:-0300
TZOFFSETTO:-0200
END:DAYLIGHT
END:VTIMEZONE
END:VCALENDAR
