BEGIN:VCALENDAR
VERSION:2.0
PRODID:-//Plone.org//NONSGML plone.app.event//EN
X-WR-TIMEZONE:America/Sao_Paulo
BEGIN:VEVENT
SUMMARY:Reunião de Equipe da Reitora em [ Outros espacos]
DTSTART;TZID=America/Sao_Paulo;VALUE=DATE-TIME:20240802T093000
DTEND;TZID=America/Sao_Paulo;VALUE=DATE-TIME:20240802T123000
DTSTAMP;VALUE=DATE-TIME:20260419T205646Z
UID:b5fc24e8acb2452aa6c2f59d045230b6@150.164.76.86:8080
CREATED;VALUE=DATE-TIME:20240726T163615Z
DESCRIPTION:<p>Reunião de equipe da Reitora</p>
LAST-MODIFIED;VALUE=DATE-TIME:20240729T144248Z
URL:http://150.164.76.86:8080/cac/agenda/16214660097260691347
END:VEVENT
BEGIN:VTIMEZONE
TZID:America/Sao_Paulo
X-LIC-LOCATION:America/Sao_Paulo
BEGIN:STANDARD
DTSTART;VALUE=DATE-TIME:20240217T230000
TZNAME:BRT
TZOFFSETFROM:-0200
TZOFFSETTO:-0300
END:STANDARD
END:VTIMEZONE
END:VCALENDAR
