BEGIN:VCALENDAR
VERSION:2.0
PRODID:-//Plone.org//NONSGML plone.app.event//EN
X-WR-TIMEZONE:America/Sao_Paulo
BEGIN:VEVENT
SUMMARY:Concurso Defensoria Pública - cargos analista e técnico em [ Aud
 itorio Nobre do CAD 1 Auditorio 1A do CAD 1 Auditorio 2A do CAD 1 Auditori
 o A102 do Cad 2 Auditorio A104 do Cad 2 Auditório B101/102 do CAD 3 Audit
 ório B106 do CAD3 Auditório B107 do CAD3 Auditório B301 do CAD 3 Audit
 ório B302 do CAD 3 Outros espacos]
DTSTART;TZID=America/Sao_Paulo;VALUE=DATE-TIME:20231014T060000
DTEND;TZID=America/Sao_Paulo;VALUE=DATE-TIME:20231015T200000
DTSTAMP;VALUE=DATE-TIME:20260421T003407Z
UID:132d6a6075ec48f98c725e9178c398c2@150.164.76.86:8080
CREATED;VALUE=DATE-TIME:20230613T131850Z
DESCRIPTION:<p><span>concurso Defensoria Pública - cargos analista e téc
 nico</span></p>
LAST-MODIFIED;VALUE=DATE-TIME:20230807T194822Z
URL:http://150.164.76.86:8080/cac/agenda/16209195504741368921
END:VEVENT
BEGIN:VTIMEZONE
TZID:America/Sao_Paulo
X-LIC-LOCATION:America/Sao_Paulo
BEGIN:STANDARD
DTSTART;VALUE=DATE-TIME:20230225T230000
TZNAME:BRT
TZOFFSETFROM:-0200
TZOFFSETTO:-0300
END:STANDARD
BEGIN:DAYLIGHT
DTSTART;VALUE=DATE-TIME:20231015T010000
TZNAME:BRST
TZOFFSETFROM:-0300
TZOFFSETTO:-0200
END:DAYLIGHT
END:VTIMEZONE
END:VCALENDAR
