BEGIN:VCALENDAR
VERSION:2.0
PRODID:-//Plone.org//NONSGML plone.app.event//EN
X-WR-TIMEZONE:America/Sao_Paulo
BEGIN:VEVENT
SUMMARY:II CICLO DE DEBATES COMFIC/COLLICEN DOS CURSOS DE GRADUAÇÃO EM L
 ICENCIATURA - A centralidade dos estágios na construção de uma polític
 a institucional de formação de professores da educação Básica na UFMG
 : possibilidades e desafios da supervisão. em [ Auditório B106 do CAD3]
DTSTART;TZID=America/Sao_Paulo;VALUE=DATE-TIME:20241106T190000
DTEND;TZID=America/Sao_Paulo;VALUE=DATE-TIME:20241106T210000
DTSTAMP;VALUE=DATE-TIME:20260419T175653Z
UID:e1e8b65f736643fea80e9c05a6966afc@150.164.76.86:8080
CREATED;VALUE=DATE-TIME:20240926T131800Z
DESCRIPTION:<p>Microfone de mesa\, projeção e transmissão\, microfone a
 vulso com pedestal.</p>
LAST-MODIFIED;VALUE=DATE-TIME:20241030T140845Z
URL:http://150.164.76.86:8080/cac/agenda/16208504966614763642
END:VEVENT
BEGIN:VTIMEZONE
TZID:America/Sao_Paulo
X-LIC-LOCATION:America/Sao_Paulo
BEGIN:DAYLIGHT
DTSTART;VALUE=DATE-TIME:20241020T010000
TZNAME:BRST
TZOFFSETFROM:-0300
TZOFFSETTO:-0200
END:DAYLIGHT
END:VTIMEZONE
END:VCALENDAR
