BEGIN:VCALENDAR
VERSION:2.0
PRODID:-//Plone.org//NONSGML plone.app.event//EN
X-WR-TIMEZONE:America/Sao_Paulo
BEGIN:VEVENT
SUMMARY:Mesa de Abertura Criminalização de gênero: apresentação dos d
 ados do projeto Transpasse em [ Outros espacos]
DTSTART;TZID=America/Sao_Paulo;VALUE=DATE-TIME:20231005T190000
DTEND;TZID=America/Sao_Paulo;VALUE=DATE-TIME:20231005T210000
DTSTAMP;VALUE=DATE-TIME:20260421T020408Z
UID:fe47cdb034674c4999a45bba331b1018@150.164.76.86:8080
CREATED;VALUE=DATE-TIME:20230928T193813Z
DESCRIPTION:<p><span style="text-align: left\; text-decoration-thickness: 
 initial\; text-decoration-style: initial\; text-decoration-color: initial\
 ; float: none\; ">Mesa de Abertura "Criminalização de gênero: apresenta
 ção dos dados do projeto Transpasse’’</span></p>
LAST-MODIFIED;VALUE=DATE-TIME:20230928T193834Z
URL:http://150.164.76.86:8080/cac/agenda/1617900290527757538
END:VEVENT
BEGIN:VTIMEZONE
TZID:America/Sao_Paulo
X-LIC-LOCATION:America/Sao_Paulo
BEGIN:STANDARD
DTSTART;VALUE=DATE-TIME:20230225T230000
TZNAME:BRT
TZOFFSETFROM:-0200
TZOFFSETTO:-0300
END:STANDARD
END:VTIMEZONE
END:VCALENDAR
