BEGIN:VCALENDAR
VERSION:2.0
PRODID:-//Plone.org//NONSGML plone.app.event//EN
X-WR-TIMEZONE:America/Sao_Paulo
BEGIN:VEVENT
SUMMARY:CAPACIDADE EXCEDIDA em [ Saguao da Reitoria Gramado da Reitoria Au
 ditorio Nobre do CAD 1 Auditorio 1A do CAD 1 Auditorio 2A do CAD 1 Auditor
 io A102 do Cad 2 Auditorio A104 do Cad 2 Arena da praça de serviços Audi
 tório B302 do CAD 3 Auditório B101/102 do CAD 3 Auditório B301 do CAD 3
 ]
DTSTART;TZID=America/Sao_Paulo;VALUE=DATE-TIME:20200401T130000
DTEND;TZID=America/Sao_Paulo;VALUE=DATE-TIME:20200401T170000
DTSTAMP;VALUE=DATE-TIME:20260425T010308Z
UID:750c593dc5734cdf87d1c277fc39fc80@150.164.76.86:8080
CREATED;VALUE=DATE-TIME:20200205T130916Z
DESCRIPTION:<p>.</p>
LAST-MODIFIED;VALUE=DATE-TIME:20230111T201102Z
URL:http://150.164.76.86:8080/cac/agenda/16151634970795972941
END:VEVENT
BEGIN:VTIMEZONE
TZID:America/Sao_Paulo
X-LIC-LOCATION:America/Sao_Paulo
BEGIN:STANDARD
DTSTART;VALUE=DATE-TIME:20200215T230000
TZNAME:BRT
TZOFFSETFROM:-0200
TZOFFSETTO:-0300
END:STANDARD
END:VTIMEZONE
END:VCALENDAR
