BEGIN:VCALENDAR
VERSION:2.0
PRODID:-//Plone.org//NONSGML plone.app.event//EN
X-WR-TIMEZONE:America/Sao_Paulo
BEGIN:VEVENT
SUMMARY:Encontro com os pais de alunos e professores dos 2º Ciclo de Form
 ação Humana do Centro Pedagógico /CP - 2024. em [ Auditorio A102 do Cad
  2]
DTSTART;TZID=America/Sao_Paulo;VALUE=DATE-TIME:20240207T173000
DTEND;TZID=America/Sao_Paulo;VALUE=DATE-TIME:20240207T213000
DTSTAMP;VALUE=DATE-TIME:20260420T080944Z
UID:c7612790438348dea9e7e8426ee235b2@150.164.76.86:8080
CREATED;VALUE=DATE-TIME:20231221T191858Z
DESCRIPTION:Encontro com os pais de alunos e professores dos 2º Ciclo de 
 Formação Humana do Centro Pedagógico /CP - 2024. \n\nProgramação: \n1
 7:30 a 17:50 - organização do espaço do auditório\; \n17:50 até 18:00
  - Chegada dos pais/responsáveis pelos alunos formandos e dos professores
  do CP\;\n19:00 - Início da Atividade - Direção do CP\;\n21:00 - Encerr
 amento da Atividades no auditório.\n21:30 - Fechamento das dependências 
 do CAD 2.\n\nEquipamentos necessários: \nMicrofone de mão sem fio 2 (par
 a a Mesa)\, \n1 Notebook para transmissão dos slides da Direção do CP\,
  \nProjetor multimídia VGA\, \nTela de projeção 218 polegadas\, \nSiste
 ma de som com caixas frontais. \nO operador da mesa de audiovisual e trans
 missão durante a atividade. \n\nResponsável pelo Evento: \nProfessora T
 ânia Aretuza - Diretora do Centro Pedagógico - CP/EBAP/UFMG - dir@cp.ufm
 g.br\nRaquel Dias - Secretária do Cenex CP -  34095175\n- Contato adicion
 al: queldiasrp@gmail.com
LAST-MODIFIED;VALUE=DATE-TIME:20231226T134748Z
URL:http://150.164.76.86:8080/cac/agenda/16144541722931816870
END:VEVENT
BEGIN:VTIMEZONE
TZID:America/Sao_Paulo
X-LIC-LOCATION:America/Sao_Paulo
BEGIN:DAYLIGHT
DTSTART;VALUE=DATE-TIME:20231015T010000
TZNAME:BRST
TZOFFSETFROM:-0300
TZOFFSETTO:-0200
END:DAYLIGHT
END:VTIMEZONE
END:VCALENDAR
