BEGIN:VCALENDAR
VERSION:2.0
PRODID:-//Plone.org//NONSGML plone.app.event//EN
X-WR-TIMEZONE:America/Sao_Paulo
BEGIN:VEVENT
SUMMARY:Campus Aberto: Acolhida aos candidatos e candidatas em [ Arena da 
 praça de serviços]
DTSTART;TZID=America/Sao_Paulo;VALUE=DATE-TIME:20240227T070000
DTEND;TZID=America/Sao_Paulo;VALUE=DATE-TIME:20240228T190000
DTSTAMP;VALUE=DATE-TIME:20260420T080738Z
UID:864848e9077d4643912ce0d69e337178@150.164.76.86:8080
CREATED;VALUE=DATE-TIME:20231218T164659Z
DESCRIPTION:<p>Evento solicitado pelo Vice-reitor\, com o objetivo de escl
 arecer dúvidas institucionais aos candidatos ao SISU-UFMG2024. "Semana Ze
 ro". <br />Programação prevê rodas de conversas com as temáticas - Pro
 cedimento de Validação\; Procedimento de Heteroidentificação e Anális
 e Socioeconômica</p>
LAST-MODIFIED;VALUE=DATE-TIME:20231218T170031Z
URL:http://150.164.76.86:8080/cac/agenda/16143889500511163352
END:VEVENT
BEGIN:VTIMEZONE
TZID:America/Sao_Paulo
X-LIC-LOCATION:America/Sao_Paulo
BEGIN:STANDARD
DTSTART;VALUE=DATE-TIME:20240217T230000
TZNAME:BRT
TZOFFSETFROM:-0200
TZOFFSETTO:-0300
END:STANDARD
END:VTIMEZONE
END:VCALENDAR
