BEGIN:VCALENDAR
VERSION:2.0
PRODID:-//Plone.org//NONSGML plone.app.event//EN
X-WR-TIMEZONE:America/Sao_Paulo
BEGIN:VEVENT
SUMMARY:Quarta Doze e Trinta em [ Arena da praça de serviços]
DTSTART;TZID=America/Sao_Paulo;VALUE=DATE-TIME:20250514T080000
DTEND;TZID=America/Sao_Paulo;VALUE=DATE-TIME:20250514T090000
DTSTAMP;VALUE=DATE-TIME:20260419T091234Z
UID:9a954d088a4c420882b12a5d9c18fd1e@150.164.76.86:8080
CREATED;VALUE=DATE-TIME:20250117T191843Z
DESCRIPTION:Som e luz.
LAST-MODIFIED;VALUE=DATE-TIME:20250120T142236Z
URL:http://150.164.76.86:8080/cac/agenda/16133815894828219071
END:VEVENT
BEGIN:VTIMEZONE
TZID:America/Sao_Paulo
X-LIC-LOCATION:America/Sao_Paulo
BEGIN:STANDARD
DTSTART;VALUE=DATE-TIME:20250215T230000
TZNAME:BRT
TZOFFSETFROM:-0200
TZOFFSETTO:-0300
END:STANDARD
END:VTIMEZONE
END:VCALENDAR
