BEGIN:VCALENDAR
VERSION:2.0
PRODID:-//Plone.org//NONSGML plone.app.event//EN
X-WR-TIMEZONE:America/Sao_Paulo
BEGIN:VEVENT
SUMMARY:Universo Cultural em [ Auditorio da Reitoria]
DTSTART;TZID=America/Sao_Paulo;VALUE=DATE-TIME:20231207T150000
DTEND;TZID=America/Sao_Paulo;VALUE=DATE-TIME:20231207T160000
DTSTAMP;VALUE=DATE-TIME:20260420T115029Z
UID:9bdc37371a664e709b035e263024e961@150.164.76.86:8080
CREATED;VALUE=DATE-TIME:20231204T181955Z
DESCRIPTION:<p>Gravação de entrevista para o Universo Cultural. </p>
LAST-MODIFIED;VALUE=DATE-TIME:20231205T173746Z
URL:http://150.164.76.86:8080/cac/agenda/16128143481659467282
END:VEVENT
BEGIN:VTIMEZONE
TZID:America/Sao_Paulo
X-LIC-LOCATION:America/Sao_Paulo
BEGIN:DAYLIGHT
DTSTART;VALUE=DATE-TIME:20231015T010000
TZNAME:BRST
TZOFFSETFROM:-0300
TZOFFSETTO:-0200
END:DAYLIGHT
END:VTIMEZONE
END:VCALENDAR
