BEGIN:VCALENDAR
VERSION:2.0
PRODID:-//Plone.org//NONSGML plone.app.event//EN
X-WR-TIMEZONE:America/Sao_Paulo
BEGIN:VEVENT
SUMMARY:Concurso Público da ARISB-MG em [ Auditorio Nobre do CAD 1 Outros
  espacos]
DTSTART;TZID=America/Sao_Paulo;VALUE=DATE-TIME:20250426T080000
DTEND;TZID=America/Sao_Paulo;VALUE=DATE-TIME:20250427T200000
DTSTAMP;VALUE=DATE-TIME:20260419T103508Z
UID:0749d80fba5f4b63b549d9254f2e4352@150.164.76.86:8080
CREATED;VALUE=DATE-TIME:20250320T164438Z
DESCRIPTION:<p><span>Aplicação das provas do </span><span>concurso púb
 lico da ARISB-MG\, organizado pela Fundep.</span></p>
LAST-MODIFIED;VALUE=DATE-TIME:20250320T164527Z
URL:http://150.164.76.86:8080/cac/agenda/16117075717811621778
END:VEVENT
BEGIN:VTIMEZONE
TZID:America/Sao_Paulo
X-LIC-LOCATION:America/Sao_Paulo
BEGIN:STANDARD
DTSTART;VALUE=DATE-TIME:20250215T230000
TZNAME:BRT
TZOFFSETFROM:-0200
TZOFFSETTO:-0300
END:STANDARD
END:VTIMEZONE
END:VCALENDAR
