BEGIN:VCALENDAR
VERSION:2.0
PRODID:-//Plone.org//NONSGML plone.app.event//EN
X-WR-TIMEZONE:America/Sao_Paulo
BEGIN:VEVENT
SUMMARY:Encontro com os pais de alunos e professores dos 3º Ciclo de Form
 ação Humana do Centro Pedagógico /CP - 2024 em [ Auditorio A102 do Cad 
 2]
DTSTART;TZID=America/Sao_Paulo;VALUE=DATE-TIME:20240215T173000
DTEND;TZID=America/Sao_Paulo;VALUE=DATE-TIME:20240215T213000
DTSTAMP;VALUE=DATE-TIME:20260420T080901Z
UID:7b9b3225c21143e39afe2ad2c3654ce7@150.164.76.86:8080
CREATED;VALUE=DATE-TIME:20240207T161441Z
DESCRIPTION:Encontro com os pais de alunos e professores dos 3º Ciclo de 
 Formação Humana do Centro Pedagógico /CP - 2024. \nProgramação: \n17:
 30 a 17:50 - organização do espaço do auditório\; \n17:50 até 18:00 -
  Chegada dos pais/responsáveis pelos alunos formandos e dos professores d
 o CP\; \n19:00 - Início da Atividade - Direção do CP\; \n21:00 - Encerr
 amento da Atividade no auditório. \n21:30 - Fechamento da dependências d
 o CAD2 2.\nEquipamentos necessários: \nMicrofone de mão sem fio 1 (para 
 a Mesa)\, \n1 Notebook para transmissão dos slides da Direção do CP\, P
 \nrojetor multimídia VGA\, \nTela de projeção 218 polegadas\, \nSistema
  de som com caixas frontais. \nO operador/técnico da CAC/CAD2 para operar
  a mesa de audiovisual e transmissão durante a atividade. \nResponsável 
 pelo Evento: Professora Tânia Aretuza - Diretora do Centro Pedagógico - 
 CP/EBAP/UFMG - \ndir@cp.ufmg.br Raquel Dias - Secretária do Cenex CP - 34
 095175 - Contato adicional: queldiasrp@gmail.com
LAST-MODIFIED;VALUE=DATE-TIME:20240207T190835Z
URL:http://150.164.76.86:8080/cac/agenda/16115775886467035201
END:VEVENT
BEGIN:VTIMEZONE
TZID:America/Sao_Paulo
X-LIC-LOCATION:America/Sao_Paulo
BEGIN:DAYLIGHT
DTSTART;VALUE=DATE-TIME:20231015T010000
TZNAME:BRST
TZOFFSETFROM:-0300
TZOFFSETTO:-0200
END:DAYLIGHT
END:VTIMEZONE
END:VCALENDAR
