BEGIN:VCALENDAR
VERSION:2.0
PRODID:-//Plone.org//NONSGML plone.app.event//EN
X-WR-TIMEZONE:America/Sao_Paulo
BEGIN:VEVENT
SUMMARY:OUTLAB - CAPACITAÇÃO EM EMPREENDEDORISMO E GESTÃO PARA INFRAEST
 RUTURAS DE PESQUISA em [ Auditório B107 do CAD3 Outros espacos]
DTSTART;TZID=America/Sao_Paulo;VALUE=DATE-TIME:20240911T133000
DTEND;TZID=America/Sao_Paulo;VALUE=DATE-TIME:20240911T173000
DTSTAMP;VALUE=DATE-TIME:20260419T205745Z
UID:79ac264d88f74279b6d3f0fa147ba450@150.164.76.86:8080
CREATED;VALUE=DATE-TIME:20240801T193619Z
DESCRIPTION:<p>Microfone Câmera Ajustes para Transmissão Online</p>
LAST-MODIFIED;VALUE=DATE-TIME:20240820T151232Z
URL:http://150.164.76.86:8080/cac/agenda/16115352804215024871
END:VEVENT
BEGIN:VTIMEZONE
TZID:America/Sao_Paulo
X-LIC-LOCATION:America/Sao_Paulo
BEGIN:STANDARD
DTSTART;VALUE=DATE-TIME:20240217T230000
TZNAME:BRT
TZOFFSETFROM:-0200
TZOFFSETTO:-0300
END:STANDARD
END:VTIMEZONE
END:VCALENDAR
