BEGIN:VCALENDAR
VERSION:2.0
PRODID:-//Plone.org//NONSGML plone.app.event//EN
X-WR-TIMEZONE:America/Sao_Paulo
BEGIN:VEVENT
SUMMARY:I Encontro de Esquizoanálise na UFMG em [ Auditorio A104 do Cad 2
 ]
DTSTART;TZID=America/Sao_Paulo;VALUE=DATE-TIME:20231025T080000
DTEND;TZID=America/Sao_Paulo;VALUE=DATE-TIME:20231027T220000
DTSTAMP;VALUE=DATE-TIME:20260420T201204Z
UID:f078bd930eec4d7aae166778180d9190@150.164.76.86:8080
CREATED;VALUE=DATE-TIME:20230906T201445Z
DESCRIPTION:<p>O I Encontro de Esquizoanálise na UFMG recebe o tema “pe
 la descolonização do inconsciente” como chamado ético por uma clínic
 a aliada à afirmação da vida\, que seja capaz de cartografar os desafio
 s de seu tempo. Encontro que nos aparece também como traço de um plano d
 e consistência em esquizoanálise que vem se produzindo recentemente na U
 FMG. Após cinquenta anos da publicação de “O Anti-Édipo”\, estamos
  propondo um espaço de diálogo na UFMG para refletir sobre o que Deleuze
  e Guattari delinearam naquele livro como uma abordagem clínico-político
 -revolucionária. Mas o tempo tem suas dobras e\, nesse intervalo de mais 
 de meio século\, a esquizoanálise se desdobrou de diferentes maneiras. G
 anhou força em solo latino-americano. Multiplicou-se em diferentes esquiz
 oanálises. Habitando esse múltiplo\, o Encontro se volta a pensar e a ex
 perimentar os diferentes caminhos da esquizoanálise no Brasil. Radicalmen
 te comprometidos com uma dimensão ética-política-estética de nossa pr
 ática. O evento ocorrerá entre os dias 25 e 27 de outubro no Campus Pamp
 ulha da UFMG\, e contará com a participação de Suely Rolnik\, Luiz Fuga
 nti\, Domenico Hur\, Deivison Miranda\, Roberta Romagnoli\, entre outros(a
 s).</p>
LAST-MODIFIED;VALUE=DATE-TIME:20231009T173714Z
URL:http://150.164.76.86:8080/cac/agenda/16097349082606962792
END:VEVENT
BEGIN:VTIMEZONE
TZID:America/Sao_Paulo
X-LIC-LOCATION:America/Sao_Paulo
BEGIN:DAYLIGHT
DTSTART;VALUE=DATE-TIME:20231015T010000
TZNAME:BRST
TZOFFSETFROM:-0300
TZOFFSETTO:-0200
END:DAYLIGHT
END:VTIMEZONE
END:VCALENDAR
