BEGIN:VCALENDAR
VERSION:2.0
PRODID:-//Plone.org//NONSGML plone.app.event//EN
X-WR-TIMEZONE:America/Sao_Paulo
BEGIN:VEVENT
SUMMARY:Inauguração casa indígena em [ Outros espacos]
DTSTART;TZID=America/Sao_Paulo;VALUE=DATE-TIME:20230818T160000
DTEND;TZID=America/Sao_Paulo;VALUE=DATE-TIME:20230818T170000
DTSTAMP;VALUE=DATE-TIME:20260421T091630Z
UID:f75139a373cc4cd3b2aac9bb6df0a0ee@150.164.76.86:8080
CREATED;VALUE=DATE-TIME:20230814T181459Z
DESCRIPTION:<p>Inauguração</p>
LAST-MODIFIED;VALUE=DATE-TIME:20230814T181509Z
URL:http://150.164.76.86:8080/cac/agenda/16080464604000520887
END:VEVENT
BEGIN:VTIMEZONE
TZID:America/Sao_Paulo
X-LIC-LOCATION:America/Sao_Paulo
BEGIN:STANDARD
DTSTART;VALUE=DATE-TIME:20230225T230000
TZNAME:BRT
TZOFFSETFROM:-0200
TZOFFSETTO:-0300
END:STANDARD
END:VTIMEZONE
END:VCALENDAR
