BEGIN:VCALENDAR
VERSION:2.0
PRODID:-//Plone.org//NONSGML plone.app.event//EN
X-WR-TIMEZONE:America/Sao_Paulo
BEGIN:VEVENT
SUMMARY:CAPACIDADE EXCEDIDA em [ Saguao da Reitoria Auditorio da Reitoria 
 Gramado da Reitoria Entorno da Praca de Servicos Auditorio 1A do CAD 1 Aud
 itorio 2A do CAD 1 Auditorio A102 do Cad 2 Auditorio A104 do Cad 2 Auditó
 rio B302 do CAD 3 Auditório B101/102 do CAD 3 Auditório B301 do CAD 3]
DTSTART;TZID=America/Sao_Paulo;VALUE=DATE-TIME:20201027T130000
DTEND;TZID=America/Sao_Paulo;VALUE=DATE-TIME:20201027T170000
DTSTAMP;VALUE=DATE-TIME:20260424T172951Z
UID:72c9bac4431f4b06aa83833c279faf82@150.164.76.86:8080
CREATED;VALUE=DATE-TIME:20200217T141412Z
DESCRIPTION:<p>.</p>
LAST-MODIFIED;VALUE=DATE-TIME:20230111T201104Z
URL:http://150.164.76.86:8080/cac/agenda/16053902211007614800
END:VEVENT
BEGIN:VTIMEZONE
TZID:America/Sao_Paulo
X-LIC-LOCATION:America/Sao_Paulo
BEGIN:DAYLIGHT
DTSTART;VALUE=DATE-TIME:20201018T010000
TZNAME:BRST
TZOFFSETFROM:-0300
TZOFFSETTO:-0200
END:DAYLIGHT
END:VTIMEZONE
END:VCALENDAR
