BEGIN:VCALENDAR
VERSION:2.0
PRODID:-//Plone.org//NONSGML plone.app.event//EN
X-WR-TIMEZONE:America/Sao_Paulo
BEGIN:VEVENT
SUMMARY:Feriado e recesso escolar - Independência do Brasil em [ Auditori
 o da Reitoria Saguao da Reitoria Gramado da Reitoria Arena da praça de se
 rviços Entorno da Praca de Servicos Auditorio Nobre do CAD 1 Auditorio 1A
  do CAD 1 Auditorio 2A do CAD 1 Auditorio A102 do Cad 2 Auditorio A104 do 
 Cad 2 Auditório B101/102 do CAD 3 Auditório B301 do CAD 3 Auditório B30
 2 do CAD 3 Auditório B106 do CAD3 Auditório B107 do CAD3 Outros espacos]
DTSTART;TZID=America/Sao_Paulo;VALUE=DATE-TIME:20230907T000000
DTEND;TZID=America/Sao_Paulo;VALUE=DATE-TIME:20230908T230000
DTSTAMP;VALUE=DATE-TIME:20260421T080627Z
UID:2a2a44f47e5f46fda3b074251454637d@150.164.76.86:8080
CREATED;VALUE=DATE-TIME:20221110T141247Z
DESCRIPTION:<p>Feriado</p>
LAST-MODIFIED;VALUE=DATE-TIME:20230111T201120Z
URL:http://150.164.76.86:8080/cac/agenda/16053580092543802550
END:VEVENT
BEGIN:VTIMEZONE
TZID:America/Sao_Paulo
X-LIC-LOCATION:America/Sao_Paulo
BEGIN:STANDARD
DTSTART;VALUE=DATE-TIME:20230225T230000
TZNAME:BRT
TZOFFSETFROM:-0200
TZOFFSETTO:-0300
END:STANDARD
END:VTIMEZONE
END:VCALENDAR
