BEGIN:VCALENDAR
VERSION:2.0
PRODID:-//Plone.org//NONSGML plone.app.event//EN
X-WR-TIMEZONE:America/Sao_Paulo
BEGIN:VEVENT
SUMMARY:42º  Mercado das Pulgas em [ Entorno da Praca de Servicos]
DTSTART;TZID=America/Sao_Paulo;VALUE=DATE-TIME:20231204T090000
DTEND;TZID=America/Sao_Paulo;VALUE=DATE-TIME:20231207T170000
DTSTAMP;VALUE=DATE-TIME:20260420T114734Z
UID:011102c84bf3488abd53e2619f61bef6@150.164.76.86:8080
CREATED;VALUE=DATE-TIME:20221110T173323Z
DESCRIPTION:70 PAINEIS
LAST-MODIFIED;VALUE=DATE-TIME:20221121T212038Z
URL:http://150.164.76.86:8080/cac/agenda/16050111774478076747
END:VEVENT
BEGIN:VTIMEZONE
TZID:America/Sao_Paulo
X-LIC-LOCATION:America/Sao_Paulo
BEGIN:DAYLIGHT
DTSTART;VALUE=DATE-TIME:20231015T010000
TZNAME:BRST
TZOFFSETFROM:-0300
TZOFFSETTO:-0200
END:DAYLIGHT
END:VTIMEZONE
END:VCALENDAR
