BEGIN:VCALENDAR
VERSION:2.0
PRODID:-//Plone.org//NONSGML plone.app.event//EN
X-WR-TIMEZONE:America/Sao_Paulo
BEGIN:VEVENT
SUMMARY:VIII Workshop da Pós-Graduação em Física em [ Auditório B107 
 do CAD3 - s/ ar condicionado]
DTSTART;TZID=America/Sao_Paulo;VALUE=DATE-TIME:20250310T130000
DTEND;TZID=America/Sao_Paulo;VALUE=DATE-TIME:20250314T210000
DTSTAMP;VALUE=DATE-TIME:20260419T120158Z
UID:a965c4c4a0e7439cb260fbddf793687e@150.164.76.86:8080
CREATED;VALUE=DATE-TIME:20241016T163842Z
DESCRIPTION:<p>Equipamentos necessários: Mesa\, cadeiras e microfones par
 a os palestrantes. Projetor\, internet e computador para as apresentaçõe
 s. Mesa grande para coffee break Programação: Terça-feira\, 11/03/25 9:
 00 – 9:30 - Credenciamento 9:30 - 10h00 - Café 10:00 – 10:30 - Abertu
 ra 10:30 – 12:00 - Plenária 1 - Astrofísica - Helio Takai 12:00 – 13
 :30 - Intervalo 13:30 – 15:00 - Contribuições orais 15:00 - 15h30 - Co
 ffee break 15:30 - 17h00 - Plenária 2 - Física de partículas Quarta-fei
 ra\, 12/03/25 9:00 - 10h30 - Plenária 3 - Estatística - Silvio Salinas 1
 0h30 - 12h00 - Sessão de pôster 12:00 – 13:30 - Intervalo 13:30 – 15
 :00 - Contribuições orais 15:00 - 15h30 - Coffee break 15h30 - 17:00 - P
 lenária 4 - Espectroscopia Raman - Antonio Gomes Quinta-feira\, 13/03/25 
 9:00 - 10h30 - Plenária 5 - Física dos Sistemas Biológicos - Lívia Sim
 an 10:30 – 12:00 - Contribuições orais 12:00 – 13:30 - Intervalo 13h
 30 - 15h00 - Plenária 6 - Cristalografia - Marcia Fantini 15:00 – 15:30
  Coffee break 15h30 - 17:00 - Plenária 7 - Estrutura Eletrônica - Luana 
 Pedroza Sexta-feira\, 14/03/25 9:00 - 10h30 - Plenária 8 - Educação/Ens
 ino - André Robert 10h30 - 12h00 - Sessão de pôster 12:00 – 13:30 - I
 ntervalo 13:30 – 15:00 - Contribuições orais 15:00 – 16:30 - Plenár
 ia 9 - Física de superfície - Abner Siervo 16:30 – 17:00 - Café de en
 cerramento</p>
LAST-MODIFIED;VALUE=DATE-TIME:20250226T131851Z
URL:http://150.164.76.86:8080/cac/agenda/16046944175841305531
END:VEVENT
BEGIN:VTIMEZONE
TZID:America/Sao_Paulo
X-LIC-LOCATION:America/Sao_Paulo
BEGIN:STANDARD
DTSTART;VALUE=DATE-TIME:20250215T230000
TZNAME:BRT
TZOFFSETFROM:-0200
TZOFFSETTO:-0300
END:STANDARD
END:VTIMEZONE
END:VCALENDAR
