BEGIN:VCALENDAR
VERSION:2.0
PRODID:-//Plone.org//NONSGML plone.app.event//EN
X-WR-TIMEZONE:America/Sao_Paulo
BEGIN:VEVENT
SUMMARY:Evento comemorativo dos 75 Anos do IPEAD em [ Outros espacos]
DTSTART;TZID=America/Sao_Paulo;VALUE=DATE-TIME:20230601T170000
DTEND;TZID=America/Sao_Paulo;VALUE=DATE-TIME:20230601T193000
DTSTAMP;VALUE=DATE-TIME:20260421T103048Z
UID:d064c241059a4bcfb13dc4321c759928@150.164.76.86:8080
CREATED;VALUE=DATE-TIME:20230524T191715Z
DESCRIPTION:<p>Materiais de cerimonial e acompanhamento técnico</p>
LAST-MODIFIED;VALUE=DATE-TIME:20230524T191724Z
URL:http://150.164.76.86:8080/cac/agenda/16031735358223527965
END:VEVENT
BEGIN:VTIMEZONE
TZID:America/Sao_Paulo
X-LIC-LOCATION:America/Sao_Paulo
BEGIN:STANDARD
DTSTART;VALUE=DATE-TIME:20230225T230000
TZNAME:BRT
TZOFFSETFROM:-0200
TZOFFSETTO:-0300
END:STANDARD
END:VTIMEZONE
END:VCALENDAR
