BEGIN:VCALENDAR
VERSION:2.0
PRODID:-//Plone.org//NONSGML plone.app.event//EN
X-WR-TIMEZONE:America/Sao_Paulo
BEGIN:VEVENT
SUMMARY:Palestra David Verbiwski em [ Auditorio da Reitoria]
DTSTART;TZID=America/Sao_Paulo;VALUE=DATE-TIME:20211019T123000
DTEND;TZID=America/Sao_Paulo;VALUE=DATE-TIME:20211019T133000
DTSTAMP;VALUE=DATE-TIME:20260424T014939Z
UID:a0f6f2a54ba54f4bb5bc12349d6e2472@150.164.76.86:8080
CREATED;VALUE=DATE-TIME:20210927T200511Z
DESCRIPTION:<p><span>Sr. </span><span><span>David Verbiwski</span> (</sp
 an><span>Cônsul Geral do Canadá no Brasil) visitará a UFMG para uma reu
 nião com a Reitora às <b>12h </b>e para uma palestra das <b>12h30 às
  13h30</b></span></p>
LAST-MODIFIED;VALUE=DATE-TIME:20210927T200724Z
URL:http://150.164.76.86:8080/cac/agenda/16030011671242342262
END:VEVENT
BEGIN:VTIMEZONE
TZID:America/Sao_Paulo
X-LIC-LOCATION:America/Sao_Paulo
BEGIN:DAYLIGHT
DTSTART;VALUE=DATE-TIME:20211017T010000
TZNAME:BRST
TZOFFSETFROM:-0300
TZOFFSETTO:-0200
END:DAYLIGHT
END:VTIMEZONE
END:VCALENDAR
