BEGIN:VCALENDAR
VERSION:2.0
PRODID:-//Plone.org//NONSGML plone.app.event//EN
X-WR-TIMEZONE:America/Sao_Paulo
BEGIN:VEVENT
SUMMARY:1º Seminário Internacional do Coletivo Marta - Mídia e diversid
 ade no esporte em [ Auditorio A102 do Cad 2]
DTSTART;TZID=America/Sao_Paulo;VALUE=DATE-TIME:20240603T190000
DTEND;TZID=America/Sao_Paulo;VALUE=DATE-TIME:20240605T220000
DTSTAMP;VALUE=DATE-TIME:20260419T235822Z
UID:0db8451eee3543fab4d6154d9ed6aa76@150.164.76.86:8080
CREATED;VALUE=DATE-TIME:20240311T155044Z
DESCRIPTION:<p>Precisaremos de microfone de mesa (palestrantes) e de mão 
 (público)\, projetor\, tela de projeção\, sistema de som e conexão de 
 Internet. Programação 03/06 Mesa de abertura (20h às 22h): Mídia e div
 ersidade no esporte Formiga\, ex-jogadora de futebol (a confirmar*) Paulin
 ho\, jogador de futebol (a confirmar*) Verônica Hipólito\, atleta paral
 ímpica do atletismo (confirmada) Mediação: Ana Carolina Vimieiro (UFMG)
  (confirmada) 04/06 Manhã Seminário de pesquisa 1 (9h-10h45) Tema: Espor
 te\, gênero e mulheres: atletas pioneiras\, torcedoras e trajetórias de 
 pesquisadoras da área Silvana Goellner (UFPel) (confirmada) Leda Costa (U
 ERJ) (confirmada) Soraya Januário (UFPE) (confirmada) Mediação: Priscil
 a Campos (UFOP) (confirmada) Mesa de diálogo 1 (11h-12h30) Tema: Diversid
 ade no jornalismo esportivo Convidaremos jornalistas mineiras/os ou com co
 nexões com Minas (por exemplo\, que trabalhem aqui no momento)\, com aten
 ção a questões de representatividade. Estes convites serão feitos mais
  para frente porque jornalistas trabalham em escala. Nomes sendo considera
 dos: Duda Gonçalves (repórter ESPN\, mineira de BH)\, Breiller Pires (ap
 resentador ESPN\, egresso do curso de jornalismo da UFMG)\, Nathalia Fiuza
  (comentarista Rádio Itatiaia\, egressa do curso de jornalismo da UFOP). 
 Todos os nomes elencados já participaram de eventos na UFMG a convite dos
  organizadores deste seminário Mediação: João Vitor Marques (UFMG/Port
 al No Ataque) (confirmado) Tarde Grupos de trabalho (14h30 - 18h30) - híb
 rido A chamada será no formato de comunicações livres que abordem temá
 ticas relacionadas à mídia e diversidade no esporte\, incluindo discuss
 ões sobre gênero\, raça\, classe\, sexualidade\, deficiência\, entre o
 utros. Após avaliação\, os artigos aprovados serão agrupados com outra
 s submissões em Sessões Temáticas a serem definidas. Os melhores artigo
 s apresentados serão publicados em ebook. A chamada será aberta a estuda
 ntes de graduação\, pós e pesquisadoras/es doutoras/es. Noite Sessão e
 special - exibição do filme As Primeiras (19h-21h)** Seguido de lançame
 nto do livro Futebol Feminino no Brasil: entre festas\, circos e subúrbio
 s\, uma história social (1915-1941)\, de Aira Fernandes Bonfim (confirmad
 a) 05/06 Manhã Seminário de pesquisa 2 (9h-10h45) Tema: Esporte\, gêner
 o e sexualidade: masculinidades\, coletivos de torcedorxs e o esporte LGBT
 QIA+ Gustavo Bandeira (UFRGS) (confirmado) Luiza dos Anjos (Cefet-MG) (con
 firmada) Vanrochris Helbert Vieira (UFSC) (confirmado) Mediação: Marina 
 de Mattos Dantas (UEMG) (confirmada) Mesa de diálogo 2 (11h-12h30) Tema: 
 Coletivos de torcedores LGBTQIA+\, progressistas e de mulheres Faremos con
 vites a representantes de movimentos/coletivos de torcedoras/es com pautas
  adjacentes ao evento. Por exemplo\, serão convidadas/os representantes d
 a Grupa (coletivo de torcedoras do Atlético-MG)\, Marias de Minas (coleti
 vo de torcedores LGBTQIA+ do Cruzeiro)\, torcidas antifascistas e progress
 istas de Atlético-MG\, Cruzeiro e América. Temos acesso a esses agrupame
 ntos já que alguns dos envolvidos na organização do evento têm conheci
 dos\, pesquisam ou integram/integraram tais coletivos Mediação: Rafaela 
 Souza (UFMG) (confirmada) Tarde Grupos de trabalho (14h30 - 18h30) - híbr
 ido A chamada será no formato de comunicações livres que abordem temát
 icas relacionadas à mídia e diversidade no esporte\, incluindo discussõ
 es sobre gênero\, raça\, classe\, sexualidade\, deficiência\, entre out
 ros. Após avaliação\, os artigos aprovados serão agrupados com outras 
 submissões em Sessões Temáticas a serem definidas. As/Os autores dos me
 lhores artigos apresentados poderão escolher pela publicação ou não do
  trabalho em ebook. A chamada será aberta a estudantes de graduação\, p
 ós e pesquisadoras/es doutoras/es. Noite Conferência de encerramento (19
 h-20h) Kim Toffoletti (Deakin University\, Austrália) (confirmada) Mesa f
 inal (diálogos com Toffoletti\, 20h-21h) Tatiane Hilgemberg (UFRR) (confi
 rmada) Ana Carolina Vimieiro (UFMG) (confirmada)</p>
LAST-MODIFIED;VALUE=DATE-TIME:20240325T174345Z
URL:http://150.164.76.86:8080/cac/agenda/16012092642555178844
END:VEVENT
BEGIN:VTIMEZONE
TZID:America/Sao_Paulo
X-LIC-LOCATION:America/Sao_Paulo
BEGIN:STANDARD
DTSTART;VALUE=DATE-TIME:20240217T230000
TZNAME:BRT
TZOFFSETFROM:-0200
TZOFFSETTO:-0300
END:STANDARD
END:VTIMEZONE
END:VCALENDAR
