BEGIN:VCALENDAR
VERSION:2.0
PRODID:-//Plone.org//NONSGML plone.app.event//EN
X-WR-TIMEZONE:America/Sao_Paulo
BEGIN:VEVENT
SUMMARY:Aviva Universitário em [ Arena da praça de serviços]
DTSTART;TZID=America/Sao_Paulo;VALUE=DATE-TIME:20250313T190000
DTEND;TZID=America/Sao_Paulo;VALUE=DATE-TIME:20250313T200000
DTSTAMP;VALUE=DATE-TIME:20260419T120509Z
UID:9dc07551bd4e4494b09fba70f9d6e339@150.164.76.86:8080
CREATED;VALUE=DATE-TIME:20250120T140946Z
DESCRIPTION:Evento de cunho cultural para ajuda emocional\, espiritual e m
 oral dos estudantes. \n\nHaverá dois violões. Não haverá uso de aparel
 hos eletrônicos. \n\nNesse evento haverá um palestrante e os envolvidos 
 eventualmente cantarão músicas junto. \n\nTodos cientes para respeitar o
  ambiente da universidade. \n\nNome do Evento: Aviva Universitário
LAST-MODIFIED;VALUE=DATE-TIME:20250121T185216Z
URL:http://150.164.76.86:8080/cac/agenda/16004215129741332272
END:VEVENT
BEGIN:VTIMEZONE
TZID:America/Sao_Paulo
X-LIC-LOCATION:America/Sao_Paulo
BEGIN:STANDARD
DTSTART;VALUE=DATE-TIME:20250215T230000
TZNAME:BRT
TZOFFSETFROM:-0200
TZOFFSETTO:-0300
END:STANDARD
END:VTIMEZONE
END:VCALENDAR
