BEGIN:VCALENDAR
VERSION:2.0
PRODID:-//Plone.org//NONSGML plone.app.event//EN
X-WR-TIMEZONE:America/Sao_Paulo
BEGIN:VEVENT
SUMMARY:Cerimônia de Abertura da Summer School on Brazilian Studies (SSBS
 ) 2023 em [ Outros espacos]
DTSTART;TZID=America/Sao_Paulo;VALUE=DATE-TIME:20230717T180000
DTEND;TZID=America/Sao_Paulo;VALUE=DATE-TIME:20230717T210000
DTSTAMP;VALUE=DATE-TIME:20260421T104241Z
UID:b59788dc9eb24dda8cc8b2e6da3f05dc@150.164.76.86:8080
CREATED;VALUE=DATE-TIME:20230713T125125Z
DESCRIPTION:<p>Cerimônia de Abertura da Summer School on Brazilian Studie
 s (SSBS) 2023\, a pedido do cerimonial da Reitoria</p>
LAST-MODIFIED;VALUE=DATE-TIME:20230713T125410Z
URL:http://150.164.76.86:8080/cac/agenda/15945763995290173287
END:VEVENT
BEGIN:VTIMEZONE
TZID:America/Sao_Paulo
X-LIC-LOCATION:America/Sao_Paulo
BEGIN:STANDARD
DTSTART;VALUE=DATE-TIME:20230225T230000
TZNAME:BRT
TZOFFSETFROM:-0200
TZOFFSETTO:-0300
END:STANDARD
END:VTIMEZONE
END:VCALENDAR
