BEGIN:VCALENDAR
VERSION:2.0
PRODID:-//Plone.org//NONSGML plone.app.event//EN
X-WR-TIMEZONE:America/Sao_Paulo
BEGIN:VEVENT
SUMMARY:III Encontro de Ensino de Ciências por Investigação em [ Audito
 rio Nobre do CAD 1 Outros espacos]
DTSTART;TZID=America/Sao_Paulo;VALUE=DATE-TIME:20240513T070000
DTEND;TZID=America/Sao_Paulo;VALUE=DATE-TIME:20240520T210000
DTSTAMP;VALUE=DATE-TIME:20260420T042910Z
UID:0eeb13395d2b4872857d6f12d0473d72@150.164.76.86:8080
CREATED;VALUE=DATE-TIME:20240103T151051Z
DESCRIPTION:<p>Considerando que o 3º Encontro de Ensino de Ciências por 
 Investigação envolve atividades como conferências e mesas redondas\, em
  termos de equipamentos será necessário aparelhos de som e imagem\, como
  projetor\, tela de projeção\, microfones e som ambiente. Tendo em vista
  a apresentação de pôsteres\, serão necessários o uso de cavaletes pa
 ra suporte dos banners. Em relação aos serviços\, visando o suporte e o
 peração dos equipamentos áudio visuais\, será necessário serviço rel
 acionado ao áudio visual. Ressaltamos que Encontro de Ensino de Ciências
  por Investigação tem uma característica particular\, porque visa a int
 egração e troca entre os participantes\, de forma que na programação n
 ão há atividades concomitantes\, isto é\, realizada ao mesmo tempo e co
 ncorrentes. Nossa intenção é que todo o público participe de todas a
 s palestras e apresentações de pôster. Consideramos que esta decisão i
 mpacta significativamente na troca de conhecimento entre pesquisadores\, p
 rofessores da educação básica (público-alvo do evento) e estudantes da
  graduação e pós-graduação. Sendo assim\, se faz necessário a dispos
 ição de um espaço que possa acomodar todo o público. Ademais\, neste s
 entido\, a programação foi dividida da seguinte forma: 15 DE MAIO DE 202
 4 08h00 – 09h00: Credenciamento 09h00 – 09h30: Abertura 09h30 – 11h0
 0: Conferência inicial: Ensino de Ciências por investigação: qual (sua
 ) pergunta? Medicação: Dra. Luciana Abreu Nascimento (IF Sul de Minas) C
 onferencista: Dra. Lúcia Helena Sasseron (USP) 11h00 – 13h00: Apresenta
 ção de pôsteres 13h00 – 14h30: Almoço 14h30 – 15h30: Pôsteres 16h
 00 – 18h00: Mesa redonda 1: Métodos e estratégias para implementação
  do ensino de ciências por investigação Mediação: Dra. Maíra Batisto
 ni e Silva (USP) Debatedores: Dr. Santer Álvares de Matos (Centro Pedagó
 gico UFMG) Dr. Alexander Montero Cunha (UFRGS) Larissa Rocha de Carvalho (
 USP) 16 DE MAIO 2024 08h00 – 09h00: Credenciamento 09h00 – 11h00: Mesa
  redonda 2: Dados e evidências da inserção do ensino por investigação
  Mediadora: Dra. Marta Máximo Pereira (CEFET/RJ) Debatedores: Dr. Luiz Gu
 stavo Franco (UFMG) Dra. Daniela Scarpa (USP) Me. David Gadelha da Costa (
 UFRPE) 11h00 – 11h30: Intervalo 11h30 – 13h00: Apresentação de pôst
 eres 13h00 – 14h30: Almoço 14h30 – 18h00: Atividades culturais em mus
 eus da UFMG 17 DE MAIO DE 2024 08h00 – 09h00: Credenciamento 09h00 – 1
 1h00: Mesa redonda 3: O que falta incluir no ensino de ciências por inves
 tigação? Mediadora: Dra. Ana Paula Solino (UNIFAL) Debatedores: Dra. Ren
 a de Paula Orofino (UFABC) Dr. Ronaldo Santos Santana (Escola de Aplicaç
 ão USP) Dr. Leandro Alves dos Santos (Escola Municipal Francisco Rebolo\,
  SP 11h00 – 11h30: Intervalo 11h30 – 13h00: Apresentação de pôstere
 s 13h00 – 14h30: Almoço 14h30 – 16h00: Conferência final: O ensino d
 e ciências por investigação tem futuro? Mediadora: Dra. Stefannie de S
 á Ibraim (UFMG) Conferencista: Dra. Danusa Munford (UFABC) 16h00 – 18h0
 0: Confraternização</p>
LAST-MODIFIED;VALUE=DATE-TIME:20240425T143752Z
URL:http://150.164.76.86:8080/cac/agenda/15943660804062779213
END:VEVENT
BEGIN:VTIMEZONE
TZID:America/Sao_Paulo
X-LIC-LOCATION:America/Sao_Paulo
BEGIN:STANDARD
DTSTART;VALUE=DATE-TIME:20240217T230000
TZNAME:BRT
TZOFFSETFROM:-0200
TZOFFSETTO:-0300
END:STANDARD
END:VTIMEZONE
END:VCALENDAR
