BEGIN:VCALENDAR
VERSION:2.0
PRODID:-//Plone.org//NONSGML plone.app.event//EN
X-WR-TIMEZONE:America/Sao_Paulo
BEGIN:VEVENT
SUMMARY:Congresso Internacional de Psicologia Clinica em [ Auditorio Nobre
  do CAD 1]
DTSTART;TZID=America/Sao_Paulo;VALUE=DATE-TIME:20201105T180000
DTEND;TZID=America/Sao_Paulo;VALUE=DATE-TIME:20201107T190000
DTSTAMP;VALUE=DATE-TIME:20260424T161149Z
UID:fc6782c766bc4f1e9d8db2f561abf4f4@150.164.76.86:8080
CREATED;VALUE=DATE-TIME:20200110T184434Z
DESCRIPTION:<p>Congresso Internacional de Psicologia Clinica necessitará 
 de microfones\, técnicos para gravação de áudio e vídeo das palestras
  e conferencias. Equipe de apoio e painéis de madeira para exposição. E
 spaço do Hall de entrada para lançamento de livro/livraria</p>
LAST-MODIFIED;VALUE=DATE-TIME:20200128T135511Z
URL:http://150.164.76.86:8080/cac/agenda/15942908349415652570
END:VEVENT
BEGIN:VTIMEZONE
TZID:America/Sao_Paulo
X-LIC-LOCATION:America/Sao_Paulo
BEGIN:DAYLIGHT
DTSTART;VALUE=DATE-TIME:20201018T010000
TZNAME:BRST
TZOFFSETFROM:-0300
TZOFFSETTO:-0200
END:DAYLIGHT
END:VTIMEZONE
END:VCALENDAR
