BEGIN:VCALENDAR
VERSION:2.0
PRODID:-//Plone.org//NONSGML plone.app.event//EN
X-WR-TIMEZONE:America/Sao_Paulo
BEGIN:VEVENT
SUMMARY:Fundep X em [ Auditorio A104 do Cad 2]
DTSTART;TZID=America/Sao_Paulo;VALUE=DATE-TIME:20231206T080000
DTEND;TZID=America/Sao_Paulo;VALUE=DATE-TIME:20231207T180000
DTSTAMP;VALUE=DATE-TIME:20260420T114741Z
UID:ca31e27942cf45f0b7cc67ae8f4c147f@150.164.76.86:8080
CREATED;VALUE=DATE-TIME:20230908T193807Z
DESCRIPTION:<p>Equipamentos de áudio\, som e transmissão.</p>\n<p>Obs: e
 vento apenas na parte da manhã. Tarde desmontagem</p>
LAST-MODIFIED;VALUE=DATE-TIME:20231129T182911Z
URL:http://150.164.76.86:8080/cac/agenda/15932063359619239572
END:VEVENT
BEGIN:VTIMEZONE
TZID:America/Sao_Paulo
X-LIC-LOCATION:America/Sao_Paulo
BEGIN:DAYLIGHT
DTSTART;VALUE=DATE-TIME:20231015T010000
TZNAME:BRST
TZOFFSETFROM:-0300
TZOFFSETTO:-0200
END:DAYLIGHT
END:VTIMEZONE
END:VCALENDAR
